BEGIN:VCALENDAR
VERSION:2.0
PRODID:-//ELM Syd - ECPv6.15.20//NONSGML v1.0//EN
CALSCALE:GREGORIAN
METHOD:PUBLISH
X-WR-CALNAME:ELM Syd
X-ORIGINAL-URL:https://elmsyd.se
X-WR-CALDESC:Händelser för ELM Syd
REFRESH-INTERVAL;VALUE=DURATION:PT1H
X-Robots-Tag:noindex
X-PUBLISHED-TTL:PT1H
BEGIN:VTIMEZONE
TZID:Europe/Stockholm
BEGIN:DAYLIGHT
TZOFFSETFROM:+0100
TZOFFSETTO:+0200
TZNAME:CEST
DTSTART:20250330T010000
END:DAYLIGHT
BEGIN:STANDARD
TZOFFSETFROM:+0200
TZOFFSETTO:+0100
TZNAME:CET
DTSTART:20251026T010000
END:STANDARD
BEGIN:DAYLIGHT
TZOFFSETFROM:+0100
TZOFFSETTO:+0200
TZNAME:CEST
DTSTART:20260329T010000
END:DAYLIGHT
BEGIN:STANDARD
TZOFFSETFROM:+0200
TZOFFSETTO:+0100
TZNAME:CET
DTSTART:20261025T010000
END:STANDARD
BEGIN:DAYLIGHT
TZOFFSETFROM:+0100
TZOFFSETTO:+0200
TZNAME:CEST
DTSTART:20270328T010000
END:DAYLIGHT
BEGIN:STANDARD
TZOFFSETFROM:+0200
TZOFFSETTO:+0100
TZNAME:CET
DTSTART:20271031T010000
END:STANDARD
END:VTIMEZONE
BEGIN:VEVENT
DTSTART;TZID=Europe/Stockholm:20260509T090000
DTEND;TZID=Europe/Stockholm:20260509T170000
DTSTAMP:20260424T143220
CREATED:20250922T171347Z
LAST-MODIFIED:20260326T175647Z
UID:255574-1778317200-1778346000@elmsyd.se
SUMMARY:ELM Syds årsmöte
DESCRIPTION:Välkommen till årsmöte för ELM Syd\, Åhus missionsgård och Missionsgården Strandhem! \nÅrsmötesdagen äger i år rum på Åhus Missionsgård den 9 maj med start kl. 9.00. Dagen inleds med årsmöte för Åhus missionsgård\, och årsmöten för ELM Syd och Missionsgården Strandhem följer direkt efter\, med avbrott för lunch. \nEra valda ombud ska anmälas tillsammans med medlemstal (från 15 år och uppåt) per den 31 december 2025. Skicka i god tid före årsmötet\, gärna innan 28 april\, till maja.sveng@gunnarssons.be eller Margit Gunnarsson\, Lavendelvägen 18\, 227 38 Lund. Meddela även om någon har allergier eller specialkost. \nUnder årsmötet ges det tillfälle att ge kollekt till ELM Syd och missionsgårdarna Strandhem och Åhus. Kallelse med årsmöteshandlingar kommer att skickas ut till ombuden via respektive förening. \nVälkommen till tre viktiga årsmöten!
URL:https://elmsyd.se/event/elm-syds-arsmote/
LOCATION:Åhus Missiongård\, Glansabovägen 50\, Åhus\, 296 38\, Sweden
END:VEVENT
BEGIN:VEVENT
DTSTART;TZID=Europe/Stockholm:20260523T093000
DTEND;TZID=Europe/Stockholm:20260524T160000
DTSTAMP:20260424T143220
CREATED:20260304T193339Z
LAST-MODIFIED:20260304T193932Z
UID:256125-1779528600-1779638400@elmsyd.se
SUMMARY:Pilgrimsvandring (Kristianstad – Åhus – Yngsjö)
DESCRIPTION:Tema: ”Visa mig Herre din väg och gör mig villig att gå den” \nStart: ELF-kapellet på Fästningsgatan 7 i Kristianstad. Där finns några parkeringsplatser med möjlighet att stå under helgen. Om parkeringsplats önskas\, vänligen ange det i anmälan. Kapellet har gångavstånd från Centralstationen. \nBerth Löndahl går med som andlig ledare. \nSamling: ELF-kapellet kl. 9.30 med fika\, morgonbön\, introduktion till ämnet och vandringen. \nVi får matpaket och bibelord för dagen med oss. Vi går tillsammans genom stan till Hammarsjön. Vi går sedan Skåneleden SL6 etapp 4 i egen takt till Åhus\, ca 23 km på jämnt underlag och plan terräng.\nSkåneleden sammanfaller bitvis med Sydostleden\, som är en cykelled\, men går ibland mer naturnära än cykelleden. Längs vägen hoppas vi få se gula rapsfält\, mycket fåglar och artrik flora. Vi får njuta av skapelsen med alla sinnen samtidigt som vi får vila vid bibelord i fickan. \nI Åhus finns butiker\, caféer och fr.a. glass. Vid Gästis tar vi bron över till Äspet\, går åt vänster och checkar in på Åhusgården EFS\, Sigfridsvägen 5. Incheckning från kl. 14.00. Middag serveras kl. 18.30.\nPå kvällen får vi möjlighet att dela tankar omkring dagens ämne. \nVi får sova i enkel- eller dubbelrum. Lakan och handdukar ingår. \nPå söndagen går vi efter frukost och kort morgonsamling ner till havet för att fira mässa vid Revhaken. Vid regn kan vi ha mässan på Åhusgården. \nEfter mässan följer vi Skåneleden söderut\, går utmed havet\, till Yngsjö och äter lunch på restaurang 1135. Sista etappen går vi genom skogen till Åhus Missionsgård. Där bjuds fika. Söndagens vandring blir ca 11 km. \nFrån Missionsgården går buss till Kristianstad en gång i timmen. \nPris\nDeltagaravgift: 300 kr inkl. matpaket och fika. Betalas till ELM Syd bg 917-4418 Swish 123 105 30 99\nÅhusgården: Logi med middag och frukost: enkelrum 1085 kr\, dubbelrum 850 kr. Sänglinne ingår. Betalas på plats\nLunch på 1135: 200-250kr Betalas på plats \nAnmälan\nTill inga.svensson57@gmail.com före 10 maj.
URL:https://elmsyd.se/event/pilgrimsvandring-kristianstad-ahus-yngsjo/
ATTACH;FMTTYPE=image/png:https://elmsyd.se/wp-content/uploads/2026/03/featured-pilgrimsvandring.png
END:VEVENT
BEGIN:VEVENT
DTSTART;TZID=Europe/Stockholm:20260717T180000
DTEND;TZID=Europe/Stockholm:20260719T170000
DTSTAMP:20260424T143220
CREATED:20260124T104423Z
LAST-MODIFIED:20260304T012311Z
UID:256066-1784311200-1784480400@elmsyd.se
SUMMARY:ELM Syds sommarmöte
DESCRIPTION:Årets sommarmöte anordnas på Önnestads folkhögskola 17–19 juli.
URL:https://elmsyd.se/event/elm-syds-sommarmote/
LOCATION:Önnestads folkhögskola\, Byagatan 30\, Önnestad\, 291 73\, Sweden
END:VEVENT
END:VCALENDAR